BEGIN:VCALENDAR
VERSION:2.0
PRODID:-//DTU.dk//NONSGML DTU.dk//EN
CALSCALE:GREGORIAN
BEGIN:VEVENT
DTSTART:20240517T110000Z
DTEND:20240517T150000Z
SUMMARY:PhD Defence by Yunfeng Ding
X-ALT-DESC;FMTTYPE=text/html:<p><a href='https://construct.dtu.dk/kalenderarkiv/2024/05/phd-defence_yunfeng-ding'>https://construct.dtu.dk/kalenderarkiv/2024/05/phd-defence_yunfeng-ding</a></p>CFD modelling of fluid responses between side-by-side structures in waves and currents
URL:https://construct.dtu.dk/kalenderarkiv/2024/05/phd-defence_yunfeng-ding
DTSTAMP:20260421T132600Z
UID:{2AE54EF6-C998-445E-B708-A78FE11B84B8}-20240517T110000Z
LOCATION:Technical University of Denmark, Lyngby Campus, Building 421, Auditorium 73
END:VEVENT
END:VCALENDAR
