BEGIN:VCALENDAR
VERSION:2.0
PRODID:-//DTU.dk//NONSGML DTU.dk//EN
CALSCALE:GREGORIAN
BEGIN:VEVENT
DTSTART:20250823T220000Z
DTEND:20250828T220000Z
SUMMARY:CASMaT International Summer School 2025: Advanced Structural and Material Testing
X-ALT-DESC;FMTTYPE=text/html:<p><a href='https://construct.dtu.dk/kalenderarkiv/2025/08/casmat-international-summer-school-2025'>https://construct.dtu.dk/kalenderarkiv/2025/08/casmat-international-summer-school-2025</a></p>The objectives of the summer school are to introduce the theory and concepts behind advanced multiscale testing of structures and materials – with a focus on composites materials and structures – and to allow the students to get hands on experience with the most important, advanced measuring techniques and methodologies.
URL:https://construct.dtu.dk/kalenderarkiv/2025/08/casmat-international-summer-school-2025
DTSTAMP:20260421T112800Z
UID:{3FEB8660-3EA1-44BC-938A-CB1178AF45CA}-20250823T220000Z
LOCATION:Technical University of Denmark, Lyngby Campus, Risø
END:VEVENT
END:VCALENDAR
