BEGIN:VCALENDAR
VERSION:2.0
PRODID:-//DTU.dk//NONSGML DTU.dk//EN
CALSCALE:GREGORIAN
BEGIN:VEVENT
DTSTART:20241205T120000Z
DTEND:20241205T160000Z
SUMMARY:PhD Defence by Meng Gao
X-ALT-DESC;FMTTYPE=text/html:<p><a href='https://construct.dtu.dk/kalenderarkiv/2024/12/phd-defence_meng-gao'>https://construct.dtu.dk/kalenderarkiv/2024/12/phd-defence_meng-gao</a></p>Large Scale Heat Storage for Solar District Heating
URL:https://construct.dtu.dk/kalenderarkiv/2024/12/phd-defence_meng-gao
DTSTAMP:20260420T015500Z
UID:{B4AA36E5-42EE-4D4F-88F2-A8F31355D979}-20241205T120000Z
LOCATION:Technical University of Denmark, Anker Engelunds vej 1, Building 101, Room S01
END:VEVENT
END:VCALENDAR
